Package: AnnotationHubData Version: 1.34.0 Command: rm -rf AnnotationHubData.buildbin-libdir && mkdir AnnotationHubData.buildbin-libdir && /Users/biocbuild/BBS/utils/build-universal.sh AnnotationHubData_1.34.0.tar.gz /Library/Frameworks/R.framework/Resources/bin/R AnnotationHubData.buildbin-libdir StartedAt: 2024-06-11 10:07:44 -0400 (Tue, 11 Jun 2024) EndedAt: 2024-06-11 10:09:09 -0400 (Tue, 11 Jun 2024) EllapsedTime: 85.8 seconds RetCode: 0 Status: OK PackageFile: AnnotationHubData_1.34.0.tgz PackageFileSize: 930.4 KiB