Package: AnnotationHubData Version: 1.34.0 Command: /Library/Frameworks/R.framework/Resources/bin/R CMD check --install=check:AnnotationHubData.install-out.txt --library=/Library/Frameworks/R.framework/Resources/library --no-vignettes --timings AnnotationHubData_1.34.0.tar.gz StartedAt: 2024-10-17 12:18:38 -0400 (Thu, 17 Oct 2024) EndedAt: 2024-10-17 12:29:58 -0400 (Thu, 17 Oct 2024) EllapsedTime: 680.3 seconds RetCode: 0 Status: WARNINGS CheckDir: AnnotationHubData.Rcheck Warnings: 1