Package: AnnotationHubData Version: 1.34.0 Command: rm -rf AnnotationHubData.buildbin-libdir && mkdir AnnotationHubData.buildbin-libdir && /Users/biocbuild/BBS/utils/build-universal.sh AnnotationHubData_1.34.0.tar.gz /Library/Frameworks/R.framework/Resources/bin/R AnnotationHubData.buildbin-libdir StartedAt: 2024-10-18 17:16:59 -0400 (Fri, 18 Oct 2024) EndedAt: 2024-10-18 17:18:03 -0400 (Fri, 18 Oct 2024) EllapsedTime: 64.0 seconds RetCode: 0 Status: OK PackageFile: AnnotationHubData_1.34.0.tgz PackageFileSize: 929.7 KiB