Package: AnnotationHub Version: 3.12.0 Command: E:\biocbuild\bbs-3.19-bioc\R\bin\R.exe CMD INSTALL AnnotationHub StartedAt: 2024-10-16 16:16:47 -0400 (Wed, 16 Oct 2024) EndedAt: 2024-10-16 16:17:44 -0400 (Wed, 16 Oct 2024) EllapsedTime: 56.1 seconds RetCode: 0 Status: OK