Package: AnnotationHub Version: 3.12.0 Command: /Library/Frameworks/R.framework/Resources/bin/R CMD INSTALL AnnotationHub StartedAt: 2024-06-09 15:10:46 -0400 (Sun, 09 Jun 2024) EndedAt: 2024-06-09 15:11:09 -0400 (Sun, 09 Jun 2024) EllapsedTime: 22.8 seconds RetCode: 0 Status: OK