Package: AnnotationHub Version: 3.12.0 Command: /home/biocbuild/R/R-beta-2024-04-15_r86425/bin/R CMD check --install=check:AnnotationHub.install-out.txt --library=/home/biocbuild/R/R-beta-2024-04-15_r86425/site-library --no-vignettes --timings AnnotationHub_3.12.0.tar.gz StartedAt: 2024-05-09 04:44:44 -0000 (Thu, 09 May 2024) EndedAt: 2024-05-09 04:51:19 -0000 (Thu, 09 May 2024) EllapsedTime: 394.8 seconds RetCode: 0 Status: OK CheckDir: AnnotationHub.Rcheck Warnings: 0