Package: AnnotationHub Version: 3.12.0 Command: /home/biocbuild/R/R-beta-2024-04-15_r86425/bin/R CMD build --keep-empty-dirs --no-resave-data AnnotationHub StartedAt: 2024-05-08 22:18:37 -0000 (Wed, 08 May 2024) EndedAt: 2024-05-08 22:22:03 -0000 (Wed, 08 May 2024) EllapsedTime: 206.3 seconds RetCode: 0 Status: OK PackageFile: AnnotationHub_3.12.0.tar.gz PackageFileSize: 1.023 MiB