Package: AnnotationHub Version: 3.12.0 Command: /Library/Frameworks/R.framework/Resources/bin/R CMD build --keep-empty-dirs --no-resave-data AnnotationHub StartedAt: 2024-10-16 19:21:58 -0400 (Wed, 16 Oct 2024) EndedAt: 2024-10-16 19:25:01 -0400 (Wed, 16 Oct 2024) EllapsedTime: 182.6 seconds RetCode: 0 Status: OK PackageFile: AnnotationHub_3.12.0.tar.gz PackageFileSize: 975.6 KiB