Package: AnnotationForge Version: 1.46.0 Command: E:\biocbuild\bbs-3.19-bioc\R\bin\R.exe CMD check --no-multiarch --install=check:AnnotationForge.install-out.txt --library=E:\biocbuild\bbs-3.19-bioc\R\library --no-vignettes --timings AnnotationForge_1.46.0.tar.gz StartedAt: 2024-10-16 22:49:36 -0400 (Wed, 16 Oct 2024) EndedAt: 2024-10-16 22:51:58 -0400 (Wed, 16 Oct 2024) EllapsedTime: 141.7 seconds RetCode: 0 Status: OK CheckDir: AnnotationForge.Rcheck Warnings: 0