Package: AnnotationForge Version: 1.46.0 Command: chmod a+r AnnotationForge -R && E:\biocbuild\bbs-3.19-bioc\R\bin\R.exe CMD build --keep-empty-dirs --no-resave-data AnnotationForge StartedAt: 2024-10-16 17:33:04 -0400 (Wed, 16 Oct 2024) EndedAt: 2024-10-16 17:38:25 -0400 (Wed, 16 Oct 2024) EllapsedTime: 320.7 seconds RetCode: 0 Status: OK PackageFile: AnnotationForge_1.46.0.tar.gz PackageFileSize: 3.812 MiB