Package: AnnotationForge Version: 1.46.0 Command: chmod a+r AnnotationForge -R && F:\biocbuild\bbs-3.19-bioc\R\bin\R.exe CMD build --keep-empty-dirs --no-resave-data AnnotationForge StartedAt: 2024-06-26 17:04:31 -0400 (Wed, 26 Jun 2024) EndedAt: 2024-06-26 17:15:35 -0400 (Wed, 26 Jun 2024) EllapsedTime: 664.1 seconds RetCode: 0 Status: OK PackageFile: AnnotationForge_1.46.0.tar.gz PackageFileSize: 3.811 MiB