Package: AnnotationForge Version: 1.46.0 Command: rm -rf AnnotationForge.buildbin-libdir && mkdir AnnotationForge.buildbin-libdir && F:\biocbuild\bbs-3.19-bioc\R\bin\R.exe CMD INSTALL --build --library=AnnotationForge.buildbin-libdir AnnotationForge_1.46.0.tar.gz StartedAt: 2024-06-27 07:49:34 -0400 (Thu, 27 Jun 2024) EndedAt: 2024-06-27 07:50:10 -0400 (Thu, 27 Jun 2024) EllapsedTime: 35.6 seconds RetCode: 0 Status: OK PackageFile: AnnotationForge_1.46.0.zip PackageFileSize: 4.373 MiB