Package: AnnotationForge Version: 1.46.0 Command: /home/biocbuild/bbs-3.19-bioc/R/bin/R CMD INSTALL AnnotationForge StartedAt: 2024-10-16 16:02:41 -0400 (Wed, 16 Oct 2024) EndedAt: 2024-10-16 16:02:59 -0400 (Wed, 16 Oct 2024) EllapsedTime: 17.2 seconds RetCode: 0 Status: OK