Package: AnnotationForge Version: 1.46.0 Command: /home/biocbuild/bbs-3.19-bioc/R/bin/R CMD check --install=check:AnnotationForge.install-out.txt --library=/home/biocbuild/bbs-3.19-bioc/R/site-library --timings AnnotationForge_1.46.0.tar.gz StartedAt: 2024-10-16 21:36:54 -0400 (Wed, 16 Oct 2024) EndedAt: 2024-10-16 21:41:29 -0400 (Wed, 16 Oct 2024) EllapsedTime: 274.7 seconds RetCode: 0 Status: OK CheckDir: AnnotationForge.Rcheck Warnings: 0