Package: AnnotationForge Version: 1.46.0 Command: rm -rf AnnotationForge.buildbin-libdir && mkdir AnnotationForge.buildbin-libdir && /Users/biocbuild/BBS/utils/build-universal.sh AnnotationForge_1.46.0.tar.gz /Library/Frameworks/R.framework/Resources/bin/R AnnotationForge.buildbin-libdir StartedAt: 2024-10-17 15:37:44 -0400 (Thu, 17 Oct 2024) EndedAt: 2024-10-17 15:38:35 -0400 (Thu, 17 Oct 2024) EllapsedTime: 50.4 seconds RetCode: 0 Status: OK PackageFile: AnnotationForge_1.46.0.tgz PackageFileSize: 4.186 MiB