Package: AnnotationForge Version: 1.46.0 Command: /Library/Frameworks/R.framework/Resources/bin/R CMD build --keep-empty-dirs --no-resave-data AnnotationForge StartedAt: 2024-06-09 18:01:33 -0400 (Sun, 09 Jun 2024) EndedAt: 2024-06-09 18:05:37 -0400 (Sun, 09 Jun 2024) EllapsedTime: 243.6 seconds RetCode: 1 Status: ERROR PackageFile: None PackageFileSize: NA