Package: AneuFinder Version: 1.32.0 Command: F:\biocbuild\bbs-3.19-bioc\R\bin\R.exe CMD INSTALL AneuFinder StartedAt: 2024-06-26 16:00:52 -0400 (Wed, 26 Jun 2024) EndedAt: 2024-06-26 16:01:53 -0400 (Wed, 26 Jun 2024) EllapsedTime: 61.2 seconds RetCode: 0 Status: OK