Package: AneuFinder Version: 1.32.0 Command: chmod a+r AneuFinder -R && F:\biocbuild\bbs-3.19-bioc\R\bin\R.exe CMD build --keep-empty-dirs --no-resave-data AneuFinder StartedAt: 2024-06-26 17:03:59 -0400 (Wed, 26 Jun 2024) EndedAt: 2024-06-26 17:10:29 -0400 (Wed, 26 Jun 2024) EllapsedTime: 390.4 seconds RetCode: 0 Status: OK PackageFile: AneuFinder_1.32.0.tar.gz PackageFileSize: 2.021 MiB