Package: AneuFinder Version: 1.32.0 Command: rm -rf AneuFinder.buildbin-libdir && mkdir AneuFinder.buildbin-libdir && F:\biocbuild\bbs-3.19-bioc\R\bin\R.exe CMD INSTALL --build --library=AneuFinder.buildbin-libdir AneuFinder_1.32.0.tar.gz StartedAt: 2024-06-27 07:49:21 -0400 (Thu, 27 Jun 2024) EndedAt: 2024-06-27 07:50:30 -0400 (Thu, 27 Jun 2024) EllapsedTime: 68.4 seconds RetCode: 0 Status: OK PackageFile: AneuFinder_1.32.0.zip PackageFileSize: 2.535 MiB