Package: AneuFinder Version: 1.32.0 Command: /Library/Frameworks/R.framework/Resources/bin/R CMD INSTALL AneuFinder StartedAt: 2024-10-16 15:32:28 -0400 (Wed, 16 Oct 2024) EndedAt: 2024-10-16 15:34:03 -0400 (Wed, 16 Oct 2024) EllapsedTime: 94.9 seconds RetCode: 0 Status: OK