Package: AneuFinder Version: 1.32.0 Command: /Library/Frameworks/R.framework/Resources/bin/R CMD check --install=check:AneuFinder.install-out.txt --library=/Library/Frameworks/R.framework/Resources/library --no-vignettes --timings AneuFinder_1.32.0.tar.gz StartedAt: 2024-10-17 00:59:50 -0400 (Thu, 17 Oct 2024) EndedAt: 2024-10-17 01:25:57 -0400 (Thu, 17 Oct 2024) EllapsedTime: 1567.0 seconds RetCode: 0 Status: OK CheckDir: AneuFinder.Rcheck Warnings: 0