############################################################################## ############################################################################## ### ### Running command: ### ### /Library/Frameworks/R.framework/Resources/bin/R CMD check --install=check:AneuFinder.install-out.txt --library=/Library/Frameworks/R.framework/Resources/library --no-vignettes --timings AneuFinder_1.32.0.tar.gz ### ############################################################################## ############################################################################## * using log directory ‘/Users/biocbuild/bbs-3.19-bioc/meat/AneuFinder.Rcheck’ * using R version 4.4.1 (2024-06-14) * using platform: x86_64-apple-darwin20 * R was compiled by Apple clang version 14.0.0 (clang-1400.0.29.202) GNU Fortran (GCC) 12.2.0 * running under: macOS Monterey 12.7.6 * using session charset: UTF-8 * using option ‘--no-vignettes’ * checking for file ‘AneuFinder/DESCRIPTION’ ... OK * checking extension type ... Package * this is package ‘AneuFinder’ version ‘1.32.0’ * checking package namespace information ... OK * checking package dependencies ... OK * checking if this is a source package ... OK * checking if there is a namespace ... OK * checking for hidden files and directories ... OK * checking for portable file names ... OK * checking for sufficient/correct file permissions ... OK * checking whether package ‘AneuFinder’ can be installed ... OK * used C++ compiler: ‘Apple clang version 14.0.0 (clang-1400.0.29.202)’ * used SDK: ‘MacOSX11.3.sdk’ * checking installed package size ... OK * checking package directory ... OK * checking ‘build’ directory ... OK * checking DESCRIPTION meta-information ... OK * checking top-level files ... OK * checking for left-over files ... OK * checking index information ... OK * checking package subdirectories ... OK * checking code files for non-ASCII characters ... OK * checking R files for syntax errors ... OK * checking whether the package can be loaded ... OK * checking whether the package can be loaded with stated dependencies ... OK * checking whether the package can be unloaded cleanly ... OK * checking whether the namespace can be loaded with stated dependencies ... OK * checking whether the namespace can be unloaded cleanly ... OK * checking whether startup messages can be suppressed ... OK * checking dependencies in R code ... OK * checking S3 generic/method consistency ... OK * checking replacement functions ... OK * checking foreign function calls ... OK * checking R code for possible problems ... NOTE Aneufinder: multiple local function definitions for ‘parallel.helper’ with different formal arguments * checking Rd files ... OK * checking Rd metadata ... OK * checking Rd cross-references ... OK * checking for missing documentation entries ... OK * checking for code/documentation mismatches ... OK * checking Rd \usage sections ... OK * checking Rd contents ... OK * checking for unstated dependencies in examples ... OK * checking line endings in C/C++/Fortran sources/headers ... OK * checking compiled code ... NOTE Note: information on .o files is not available * checking sizes of PDF files under ‘inst/doc’ ... OK * checking files in ‘vignettes’ ... OK * checking examples ... OK Examples with CPU (user + system) or elapsed time > 5s user system elapsed refineBreakpoints 137.346 1.702 159.220 simulateReads 109.796 5.017 136.398 heatmapAneuploidies 113.506 0.880 127.888 plotHeterogeneity 72.654 1.275 83.455 heatmapGenomewideClusters 63.669 0.687 72.804 karyotypeMeasures 56.042 0.701 66.086 correctGC 52.339 2.819 63.710 heatmapGenomewide 54.307 0.634 62.140 annotateBreakpoints 33.691 0.870 40.576 getBreakpoints 28.172 0.739 32.846 consensusSegments 21.106 0.190 24.507 subsetByCNVprofile 13.986 0.125 16.854 getSCEcoordinates 12.558 0.685 15.208 findCNVs.strandseq 10.351 0.546 12.450 variableWidthBins 9.514 0.219 10.857 findCNVs 8.150 0.763 10.309 loadFromFiles 8.254 0.123 9.213 clusterByQuality 6.087 0.176 7.475 getQC 4.434 0.065 5.155 blacklist 4.246 0.188 5.190 collapseBins 4.209 0.162 5.015 * checking for unstated dependencies in ‘tests’ ... OK * checking tests ... Running ‘testthat.R’ OK * checking for unstated dependencies in vignettes ... OK * checking package vignettes ... OK * checking running R code from vignettes ... SKIPPED * checking re-building of vignette outputs ... SKIPPED * checking PDF version of manual ... OK * DONE Status: 2 NOTEs See ‘/Users/biocbuild/bbs-3.19-bioc/meat/AneuFinder.Rcheck/00check.log’ for details.