Package: AneuFinder Version: 1.32.0 Command: rm -rf AneuFinder.buildbin-libdir && mkdir AneuFinder.buildbin-libdir && /Users/biocbuild/BBS/utils/build-universal.sh AneuFinder_1.32.0.tar.gz /Library/Frameworks/R.framework/Resources/bin/R AneuFinder.buildbin-libdir StartedAt: 2024-10-17 15:37:31 -0400 (Thu, 17 Oct 2024) EndedAt: 2024-10-17 15:39:11 -0400 (Thu, 17 Oct 2024) EllapsedTime: 99.5 seconds RetCode: 0 Status: OK PackageFile: AneuFinder_1.32.0.tgz PackageFileSize: 2.458 MiB