Package: AneuFinder Version: 1.32.0 Command: rm -rf AneuFinder.buildbin-libdir && mkdir AneuFinder.buildbin-libdir && /Users/biocbuild/BBS/utils/build-universal.sh AneuFinder_1.32.0.tar.gz /Library/Frameworks/R.framework/Resources/bin/R AneuFinder.buildbin-libdir StartedAt: 2024-05-27 01:23:17 -0400 (Mon, 27 May 2024) EndedAt: 2024-05-27 01:24:19 -0400 (Mon, 27 May 2024) EllapsedTime: 61.8 seconds RetCode: 0 Status: OK PackageFile: AneuFinder_1.32.0.tgz PackageFileSize: 2.459 MiB