Package: AneuFinder Version: 1.32.0 Command: /Library/Frameworks/R.framework/Resources/bin/R CMD INSTALL AneuFinder StartedAt: 2024-10-16 16:25:37 -0400 (Wed, 16 Oct 2024) EndedAt: 2024-10-16 16:26:22 -0400 (Wed, 16 Oct 2024) EllapsedTime: 44.8 seconds RetCode: 0 Status: OK