Package: AneuFinder Version: 1.32.0 Command: /Library/Frameworks/R.framework/Resources/bin/R CMD check --install=check:AneuFinder.install-out.txt --library=/Library/Frameworks/R.framework/Resources/library --no-vignettes --timings AneuFinder_1.32.0.tar.gz StartedAt: 2024-10-17 12:11:59 -0400 (Thu, 17 Oct 2024) EndedAt: 2024-10-17 12:24:03 -0400 (Thu, 17 Oct 2024) EllapsedTime: 724.1 seconds RetCode: 0 Status: OK CheckDir: AneuFinder.Rcheck Warnings: 0