Package: AneuFinder Version: 1.32.0 Command: /Library/Frameworks/R.framework/Resources/bin/R CMD build --keep-empty-dirs --no-resave-data AneuFinder StartedAt: 2024-10-16 19:18:21 -0400 (Wed, 16 Oct 2024) EndedAt: 2024-10-16 19:22:47 -0400 (Wed, 16 Oct 2024) EllapsedTime: 266.3 seconds RetCode: 0 Status: OK PackageFile: AneuFinder_1.32.0.tar.gz PackageFileSize: 2.021 MiB