Package: Anaquin Version: 2.28.0 Command: F:\biocbuild\bbs-3.19-bioc\R\bin\R.exe CMD INSTALL Anaquin StartedAt: 2024-06-26 16:00:38 -0400 (Wed, 26 Jun 2024) EndedAt: 2024-06-26 16:00:50 -0400 (Wed, 26 Jun 2024) EllapsedTime: 11.9 seconds RetCode: 0 Status: OK