Package: Anaquin Version: 2.28.0 Command: rm -rf Anaquin.buildbin-libdir && mkdir Anaquin.buildbin-libdir && /Users/biocbuild/BBS/utils/build-universal.sh Anaquin_2.28.0.tar.gz /Library/Frameworks/R.framework/Resources/bin/R Anaquin.buildbin-libdir StartedAt: 2024-06-11 10:06:56 -0400 (Tue, 11 Jun 2024) EndedAt: 2024-06-11 10:07:08 -0400 (Tue, 11 Jun 2024) EllapsedTime: 12.3 seconds RetCode: 0 Status: OK PackageFile: Anaquin_2.28.0.tgz PackageFileSize: 454.6 KiB