Package: Anaquin Version: 2.28.0 Command: rm -rf Anaquin.buildbin-libdir && mkdir Anaquin.buildbin-libdir && /Users/biocbuild/BBS/utils/build-universal.sh Anaquin_2.28.0.tar.gz /Library/Frameworks/R.framework/Resources/bin/R Anaquin.buildbin-libdir StartedAt: 2024-10-18 17:15:55 -0400 (Fri, 18 Oct 2024) EndedAt: 2024-10-18 17:16:04 -0400 (Fri, 18 Oct 2024) EllapsedTime: 9.1 seconds RetCode: 0 Status: OK PackageFile: Anaquin_2.28.0.tgz PackageFileSize: 455.5 KiB