Package: Anaquin Version: 2.28.0 Maintainer: Ted Wong MaintainerEmail: t.wong at garvan.org.au git_url: https://git.bioconductor.org/packages/Anaquin git_branch: RELEASE_3_19 git_last_commit: b547d11 git_last_commit_date: 2024-04-30 10:53:11 -0400 (Tue, 30 Apr 2024)