Package: AnVILWorkflow Version: 1.4.0 Command: rm -rf AnVILWorkflow.buildbin-libdir && mkdir AnVILWorkflow.buildbin-libdir && /Users/biocbuild/BBS/utils/build-universal.sh AnVILWorkflow_1.4.0.tar.gz /Library/Frameworks/R.framework/Resources/bin/R AnVILWorkflow.buildbin-libdir StartedAt: 2024-06-11 10:08:09 -0400 (Tue, 11 Jun 2024) EndedAt: 2024-06-11 10:08:21 -0400 (Tue, 11 Jun 2024) EllapsedTime: 12.2 seconds RetCode: 0 Status: OK PackageFile: AnVILWorkflow_1.4.0.tgz PackageFileSize: 986.4 KiB