Package: AnVILWorkflow Version: 1.4.0 Command: /Library/Frameworks/R.framework/Resources/bin/R CMD INSTALL AnVILWorkflow StartedAt: 2024-10-16 17:30:11 -0400 (Wed, 16 Oct 2024) EndedAt: 2024-10-16 17:30:17 -0400 (Wed, 16 Oct 2024) EllapsedTime: 6.3 seconds RetCode: 0 Status: OK