Package: AnVILWorkflow Version: 1.4.0 Command: /Library/Frameworks/R.framework/Resources/bin/R CMD check --install=check:AnVILWorkflow.install-out.txt --library=/Library/Frameworks/R.framework/Resources/library --no-vignettes --timings AnVILWorkflow_1.4.0.tar.gz StartedAt: 2024-10-17 12:23:42 -0400 (Thu, 17 Oct 2024) EndedAt: 2024-10-17 12:24:32 -0400 (Thu, 17 Oct 2024) EllapsedTime: 49.7 seconds RetCode: 0 Status: WARNINGS CheckDir: AnVILWorkflow.Rcheck Warnings: 1