Package: AnVILPublish Version: 1.14.0 Command: rm -rf AnVILPublish.buildbin-libdir && mkdir AnVILPublish.buildbin-libdir && E:\biocbuild\bbs-3.19-bioc\R\bin\R.exe CMD INSTALL --build --library=AnVILPublish.buildbin-libdir AnVILPublish_1.14.0.tar.gz StartedAt: 2024-10-17 07:20:12 -0400 (Thu, 17 Oct 2024) EndedAt: 2024-10-17 07:20:28 -0400 (Thu, 17 Oct 2024) EllapsedTime: 16.1 seconds RetCode: 0 Status: OK PackageFile: AnVILPublish_1.14.0.zip PackageFileSize: 266.8 KiB