Package: AnVILPublish Version: 1.14.0 Command: F:\biocbuild\bbs-3.19-bioc\R\bin\R.exe CMD INSTALL AnVILPublish StartedAt: 2024-06-26 16:41:36 -0400 (Wed, 26 Jun 2024) EndedAt: 2024-06-26 16:41:45 -0400 (Wed, 26 Jun 2024) EllapsedTime: 8.9 seconds RetCode: 0 Status: OK