Package: AnVILPublish Version: 1.14.0 Command: chmod a+r AnVILPublish -R && F:\biocbuild\bbs-3.19-bioc\R\bin\R.exe CMD build --keep-empty-dirs --no-resave-data AnVILPublish StartedAt: 2024-06-26 17:05:44 -0400 (Wed, 26 Jun 2024) EndedAt: 2024-06-26 17:06:00 -0400 (Wed, 26 Jun 2024) EllapsedTime: 16.0 seconds RetCode: 0 Status: OK PackageFile: AnVILPublish_1.14.0.tar.gz PackageFileSize: 235.6 KiB