Package: AnVILPublish Version: 1.14.0 Command: /Library/Frameworks/R.framework/Resources/bin/R CMD INSTALL AnVILPublish StartedAt: 2024-06-09 17:15:55 -0400 (Sun, 09 Jun 2024) EndedAt: 2024-06-09 17:16:03 -0400 (Sun, 09 Jun 2024) EllapsedTime: 8.3 seconds RetCode: 0 Status: OK