Package: AnVILPublish Version: 1.14.0 Command: /Library/Frameworks/R.framework/Resources/bin/R CMD INSTALL AnVILPublish StartedAt: 2024-10-16 18:23:12 -0400 (Wed, 16 Oct 2024) EndedAt: 2024-10-16 18:23:18 -0400 (Wed, 16 Oct 2024) EllapsedTime: 6.1 seconds RetCode: 0 Status: OK