Package: AnVIL Version: 1.16.2 Command: E:\biocbuild\bbs-3.19-bioc\R\bin\R.exe CMD INSTALL AnVIL StartedAt: 2024-10-16 16:40:41 -0400 (Wed, 16 Oct 2024) EndedAt: 2024-10-16 16:41:10 -0400 (Wed, 16 Oct 2024) EllapsedTime: 28.2 seconds RetCode: 0 Status: OK