Package: AnVIL Version: 1.16.2 Command: chmod a+r AnVIL -R && E:\biocbuild\bbs-3.19-bioc\R\bin\R.exe CMD build --keep-empty-dirs --no-resave-data AnVIL StartedAt: 2024-10-16 17:33:54 -0400 (Wed, 16 Oct 2024) EndedAt: 2024-10-16 17:34:33 -0400 (Wed, 16 Oct 2024) EllapsedTime: 39.1 seconds RetCode: 0 Status: OK PackageFile: AnVIL_1.16.2.tar.gz PackageFileSize: 1.168 MiB