Package: AnVIL Version: 1.16.2 Command: rm -rf AnVIL.buildbin-libdir && mkdir AnVIL.buildbin-libdir && E:\biocbuild\bbs-3.19-bioc\R\bin\R.exe CMD INSTALL --build --library=AnVIL.buildbin-libdir AnVIL_1.16.2.tar.gz StartedAt: 2024-10-17 07:19:59 -0400 (Thu, 17 Oct 2024) EndedAt: 2024-10-17 07:20:42 -0400 (Thu, 17 Oct 2024) EllapsedTime: 42.5 seconds RetCode: 0 Status: OK PackageFile: AnVIL_1.16.2.zip PackageFileSize: 1.184 MiB