Package: AnVIL Version: 1.16.2 Command: /home/biocbuild/bbs-3.19-bioc/R/bin/R CMD check --install=check:AnVIL.install-out.txt --library=/home/biocbuild/bbs-3.19-bioc/R/site-library --timings AnVIL_1.16.2.tar.gz StartedAt: 2024-10-16 21:38:20 -0400 (Wed, 16 Oct 2024) EndedAt: 2024-10-16 21:39:12 -0400 (Wed, 16 Oct 2024) EllapsedTime: 52.1 seconds RetCode: 0 Status: WARNINGS CheckDir: AnVIL.Rcheck Warnings: 1