Package: AnVIL Version: 1.16.2 Command: /Library/Frameworks/R.framework/Resources/bin/R CMD build --keep-empty-dirs --no-resave-data AnVIL StartedAt: 2024-10-16 19:25:11 -0400 (Wed, 16 Oct 2024) EndedAt: 2024-10-16 19:25:30 -0400 (Wed, 16 Oct 2024) EllapsedTime: 19.5 seconds RetCode: 0 Status: OK PackageFile: AnVIL_1.16.2.tar.gz PackageFileSize: 1.168 MiB