Package: AnVIL Version: 1.16.2 Maintainer: Marcel Ramos MaintainerEmail: marcel.ramos at roswellpark.org git_url: https://git.bioconductor.org/packages/AnVIL git_branch: RELEASE_3_19 git_last_commit: 2158441 git_last_commit_date: 2024-09-19 15:52:23 -0400 (Thu, 19 Sep 2024)