Package: AlphaMissenseR Version: 1.0.2 Command: E:\biocbuild\bbs-3.19-bioc\R\bin\R.exe CMD INSTALL AlphaMissenseR StartedAt: 2024-10-16 16:25:26 -0400 (Wed, 16 Oct 2024) EndedAt: 2024-10-16 16:25:51 -0400 (Wed, 16 Oct 2024) EllapsedTime: 25.2 seconds RetCode: 0 Status: OK