Package: AlphaMissenseR Version: 1.0.2 Command: E:\biocbuild\bbs-3.19-bioc\R\bin\R.exe CMD check --no-multiarch --install=check:AlphaMissenseR.install-out.txt --library=E:\biocbuild\bbs-3.19-bioc\R\library --no-vignettes --timings AlphaMissenseR_1.0.2.tar.gz StartedAt: 2024-10-16 22:47:07 -0400 (Wed, 16 Oct 2024) EndedAt: 2024-10-16 22:49:02 -0400 (Wed, 16 Oct 2024) EllapsedTime: 115.0 seconds RetCode: 0 Status: OK CheckDir: AlphaMissenseR.Rcheck Warnings: 0