Package: AlphaMissenseR Version: 1.0.2 Command: chmod a+r AlphaMissenseR -R && E:\biocbuild\bbs-3.19-bioc\R\bin\R.exe CMD build --keep-empty-dirs --no-resave-data AlphaMissenseR StartedAt: 2024-10-16 17:32:03 -0400 (Wed, 16 Oct 2024) EndedAt: 2024-10-16 17:33:28 -0400 (Wed, 16 Oct 2024) EllapsedTime: 85.5 seconds RetCode: 0 Status: OK PackageFile: AlphaMissenseR_1.0.2.tar.gz PackageFileSize: 413.8 KiB