Package: AlphaMissenseR Version: 1.0.2 Command: rm -rf AlphaMissenseR.buildbin-libdir && mkdir AlphaMissenseR.buildbin-libdir && E:\biocbuild\bbs-3.19-bioc\R\bin\R.exe CMD INSTALL --build --library=AlphaMissenseR.buildbin-libdir AlphaMissenseR_1.0.2.tar.gz StartedAt: 2024-10-17 07:19:19 -0400 (Thu, 17 Oct 2024) EndedAt: 2024-10-17 07:19:48 -0400 (Thu, 17 Oct 2024) EllapsedTime: 28.9 seconds RetCode: 0 Status: OK PackageFile: AlphaMissenseR_1.0.2.zip PackageFileSize: 576 KiB