Package: AlphaMissenseR Version: 1.0.2 Command: chmod a+r AlphaMissenseR -R && F:\biocbuild\bbs-3.19-bioc\R\bin\R.exe CMD build --keep-empty-dirs --no-resave-data AlphaMissenseR StartedAt: 2024-06-26 17:03:27 -0400 (Wed, 26 Jun 2024) EndedAt: 2024-06-26 17:06:12 -0400 (Wed, 26 Jun 2024) EllapsedTime: 165.1 seconds RetCode: 0 Status: OK PackageFile: AlphaMissenseR_1.0.2.tar.gz PackageFileSize: 412.2 KiB